BEGIN:VCALENDAR
VERSION:2.0
PRODID:-//wp-events-plugin.com//7.2.3.1//EN
TZID:Europe/Berlin
X-WR-TIMEZONE:Europe/Berlin
BEGIN:VEVENT
UID:79@rheinbachliest.de
DTSTART;TZID=Europe/Berlin:20241124T180000
DTEND;TZID=Europe/Berlin:20241124T193000
DTSTAMP:20241021T122209Z
URL:https://www.rheinbachliest.de/events/10-rheinbach-liest-in-den-haeuser
 n-der-stadt/
SUMMARY:10. RHEINBACH LIEST in den Häusern der Stadt
DESCRIPTION:Titel-Tore-Temperamente - in acht Wohnzimmern der Stadt\n\nZum 
 zehnten Mal treffen sich Vorleser*innen aus dem Euro Theater Central Bonn 
 mit interessierten Zuhörern in privaten Wohnzimmern. Am 24. November 2024
  stellen wir uns die Frage -&nbsp\;Ist Fußball das Leben? Oder doch eher 
 Olympia? Oder genießt man am Besten Beides vom heimischen Sofa aus? Beant
 worten Sie sich die Frage selber - als Krimi\, aus Frauensicht oder als pe
 rsönliche Erfahrung eines Rheinbachers bekommen Sie eine ganz neue Sicht 
 auf sportliche und außersportliche Aktivitäten.\n\nSie können aus sechs
  parallel stattfindenden Lesungen „ihre“ Geschichte wählen.\nDie Gast
 geber wohnen in der Kernstadt oder in den Ortschaften Rheinbachs\, gut ver
 teilt und für jeden erreichbar. Großartige Schauspielerinnen und Schausp
 ieler sind Ihre Vorleser in den privaten Wohnzimmern.\n\nIm Anschluss an d
 ie etwa einstündige Lesung laden wir Gäste und Gastgeber wieder zu einem
  kostenfreien Umtrunk in den Himmeroder Hof ein. Dort können Sie sich mit
  den&nbsp\; Schauspielerinnen und Schauspielern über das Gehörte austaus
 chen und den Abend in geselliger Runde ausklingen lassen.\n\nDie Namen und
  Adressen der Gastgeber sind nur auf den Eintrittskarten vermerkt. Karten 
 (15\,00 Euro) sind ausschließlich im Vorverkauf erhältlich – in der Bu
 chhandlung Kayser oder unter info@rheinbach-liest.de (Versand 1 € Porto)
 .\n\n\n\n24. November 2024 18:00 Uhr (Einlass ab 17.45 Uhr)\, 6 Rheinbache
 r Wohnzimmer\nVorleser*innen: Sandra Pohl\, Anna-Maria Wasserberg\, Helga 
 Bakowski\, Mark Zak\, Christiane Remmert\, Barbara Wegener\n\nPlakat als P
 DF-Datei&nbsp\;herunterladen
ATTACH;FMTTYPE=image/jpeg:https://www.rheinbachliest.de/wp-content/uploads
 /2024/07/Rhb-liest_2024-1.png
CATEGORIES:Lesung
END:VEVENT
BEGIN:VTIMEZONE
TZID:Europe/Berlin
X-LIC-LOCATION:Europe/Berlin
BEGIN:STANDARD
DTSTART:20241027T020000
TZOFFSETFROM:+0200
TZOFFSETTO:+0100
TZNAME:CET
END:STANDARD
END:VTIMEZONE
END:VCALENDAR