BEGIN:VCALENDAR
VERSION:2.0
PRODID:-//wp-events-plugin.com//7.2.3.1//EN
TZID:Europe/Berlin
X-WR-TIMEZONE:Europe/Berlin
BEGIN:VEVENT
UID:100@rheinbachliest.de
DTSTART;TZID=Europe/Berlin:20250410T200000
DTEND;TZID=Europe/Berlin:20250410T200000
DTSTAMP:20250113T200303Z
URL:https://www.rheinbachliest.de/events/ohne-probe-ganz-nach-obe-4/
SUMMARY:Ohne Probe ganz nach Obe
DESCRIPTION:„Wir lesen Ihnen alles vor\, was man uns hinlegt\, von der Sp
 eisekarte bis zum Arztbrief“\, so das Motto bei "Ohne probe ganz nach ob
 e".\n\nSoweit das simpel klingende Konzept\, die Ausführung ist große Ku
 nst. Vor zehn Jahren begann die Erfolgsgeschichte des Spontanleseformats i
 m Café Goldmund in Köln. Vor fünf Jahren gastierten die Schauspielerin 
 Eva Marianne Kraiss (Köln) und der Schauspieler Michael Baute (Wuppertal)
  damit erstmals in der Glasstadt\, unterstützt von Rheinbach liest e.V.\n
 \nDer Auftritt im Theater am Lohmarkt\, ehemals die Kultkneipe „Ahorn“
 \, ist für die beiden immer etwas Besonderes. Die Interaktion mit dem Pub
 likum ist ein wichtiger Bestandteil der Vorlese-Show. Das gilt auch für d
 ie Horoskope aus der Bravo und dem Goldenen Blatt\, die als Eröffnungspun
 kt nach der Pause bei Baute und Kraiss nie fehlen dürfen."\n\n&nbsp\;\n\n
 \n\nIn Kooperation mit dem Theater am Lohmarkt.
ATTACH;FMTTYPE=image/jpeg:https://www.rheinbachliest.de/wp-content/uploads
 /2024/09/DSC_0680_ohne-Probe-scaled.jpg
CATEGORIES:Lesung
LOCATION:Theater am Lohmarkt (UG)\, Lohmarkt 1 (Haupteingang: Deinzer Platz
  33)\, Rheinbach\, NRW\, 53359\, Deutschland
X-APPLE-STRUCTURED-LOCATION;VALUE=URI;X-ADDRESS=Lohmarkt 1 (Haupteingang: D
 einzer Platz 33)\, Rheinbach\, NRW\, 53359\, Deutschland;X-APPLE-RADIUS=10
 0;X-TITLE=Theater am Lohmarkt (UG):geo:0,0
END:VEVENT
BEGIN:VTIMEZONE
TZID:Europe/Berlin
X-LIC-LOCATION:Europe/Berlin
BEGIN:DAYLIGHT
DTSTART:20250330T030000
TZOFFSETFROM:+0100
TZOFFSETTO:+0200
TZNAME:CEST
END:DAYLIGHT
END:VTIMEZONE
END:VCALENDAR