BEGIN:VCALENDAR
VERSION:2.0
PRODID:-//wp-events-plugin.com//7.2.3.1//EN
TZID:Europe/Berlin
X-WR-TIMEZONE:Europe/Berlin
BEGIN:VEVENT
UID:119@rheinbachliest.de
DTSTART;TZID=Europe/Berlin:20260423T200000
DTEND;TZID=Europe/Berlin:20260423T200000
DTSTAMP:20260321T140500Z
URL:https://www.rheinbachliest.de/events/ohne-probe-spontanlesung-3/
SUMMARY:"Ohne Probe ..." die Spontanlesung - Seitenknistern 2026
DESCRIPTION:Rheinbach lässt sich vorlesen! Bei dem Spontanleseformat „Oh
 ne Probe ganz nach obe“ mit Eva Marianne Kraiss und Michael Baute entste
 ht am 23. April ab 20:00 Uhr im Theater am Lohmarkt wieder ein einzigartig
 es Gesamtkunstwerk. Der Eintritt ist frei.\n\nZwei Schauspieler\, eine alt
 modische Leselampe\, eine kitschige Teekanne und ein Stapel mit Büchern u
 nd Lesetexten aller Art. Mehr braucht es nicht für einen vergnüglichen A
 bend. Eva Marianne Kraiss\, Wahlkölnerin mit Rheinbacher Wurzeln verspric
 ht: „Wir lesen wirklich alles vor\, was man uns hinlegt – vom kryptisc
 hen Arztbrief\, über die Gebrauchsanleitung für einen in China gefertigt
 en Staubsauger\, bis hin zu großer Literatur.“ Und Kreuzfahrtexperte Mi
 chael Baute aus Wuppertal sekundiert schmunzelnd: „Wir bringen wieder di
 e Bravo und das Goldene Blatt mit\, alles andere ist Aufgabe des Publikums
 ."\n\nEinlass ist ab 19:00 Uhr\, Beginn um 20:00 Uhr im Theater am Lohmark
 t (Eingang Deinzer Platz 33).\n\nDer Eintritt ist frei\, eine Hutspende wi
 rd erbeten.\n\nEine Veranstaltung im Rahmen von SEITENKNISTERN zu unserem 
 15-jährigen Jubiläum.\n\n\n\nKooperationsveranstaltung mit dem Theater a
 m Lohmarkt
ATTACH;FMTTYPE=image/jpeg:https://www.rheinbachliest.de/wp-content/uploads
 /2024/05/Eva-Kraiss-und-Michael-Baute-sind-die-spontansten-Vorlesekuenstle
 r-des-Rheinlands-scaled.jpg
CATEGORIES:Seitenknistern
LOCATION:Theater am Lohmarkt (UG)\, Lohmarkt 1 (Haupteingang: Deinzer Platz
  33)\, Rheinbach\, NRW\, 53359\, Deutschland
X-APPLE-STRUCTURED-LOCATION;VALUE=URI;X-ADDRESS=Lohmarkt 1 (Haupteingang: D
 einzer Platz 33)\, Rheinbach\, NRW\, 53359\, Deutschland;X-APPLE-RADIUS=10
 0;X-TITLE=Theater am Lohmarkt (UG):geo:0,0
END:VEVENT
BEGIN:VTIMEZONE
TZID:Europe/Berlin
X-LIC-LOCATION:Europe/Berlin
BEGIN:DAYLIGHT
DTSTART:20260329T030000
TZOFFSETFROM:+0100
TZOFFSETTO:+0200
TZNAME:CEST
END:DAYLIGHT
END:VTIMEZONE
END:VCALENDAR